Package: ASICS Version: 2.26.0 Command: /home/biocbuild/R/R/bin/R CMD INSTALL ASICS StartedAt: 2025-11-10 21:27:53 -0000 (Mon, 10 Nov 2025) EndedAt: 2025-11-10 21:28:40 -0000 (Mon, 10 Nov 2025) EllapsedTime: 47.1 seconds RetCode: 0 Status: OK