Package: ASICS Version: 2.26.0 Command: /home/biocbuild/R/R/bin/R CMD build --keep-empty-dirs --no-resave-data ASICS StartedAt: 2025-11-10 23:30:26 -0000 (Mon, 10 Nov 2025) EndedAt: 2025-11-10 23:34:39 -0000 (Mon, 10 Nov 2025) EllapsedTime: 253.1 seconds RetCode: 0 Status: OK PackageFile: ASICS_2.26.0.tar.gz PackageFileSize: 3.582 MiB