Package: ASICS Version: 2.24.0 Command: /home/biocbuild/bbs-3.21-bioc/R/bin/R CMD INSTALL ASICS StartedAt: 2025-09-28 15:35:35 -0400 (Sun, 28 Sep 2025) EndedAt: 2025-09-28 15:36:09 -0400 (Sun, 28 Sep 2025) EllapsedTime: 33.9 seconds RetCode: 0 Status: OK