Package: ASICS Version: 2.24.0 Command: /Library/Frameworks/R.framework/Resources/bin/R CMD INSTALL ASICS StartedAt: 2025-10-13 15:39:51 -0400 (Mon, 13 Oct 2025) EndedAt: 2025-10-13 15:41:06 -0400 (Mon, 13 Oct 2025) EllapsedTime: 74.3 seconds RetCode: 0 Status: OK