Package: ASICS Version: 2.24.0 Command: /Library/Frameworks/R.framework/Resources/bin/R CMD build --keep-empty-dirs --no-resave-data ASICS StartedAt: 2025-10-13 17:05:45 -0400 (Mon, 13 Oct 2025) EndedAt: 2025-10-13 17:11:52 -0400 (Mon, 13 Oct 2025) EllapsedTime: 367.2 seconds RetCode: 0 Status: OK PackageFile: ASICS_2.24.0.tar.gz PackageFileSize: 3.582 MiB