Package: ASICS Version: 2.24.0 Command: rm -rf ASICS.buildbin-libdir && mkdir ASICS.buildbin-libdir && /Users/biocbuild/BBS/utils/build-universal.sh ASICS_2.24.0.tar.gz /Library/Frameworks/R.framework/Resources/bin/R ASICS.buildbin-libdir StartedAt: 2025-10-14 12:50:54 -0400 (Tue, 14 Oct 2025) EndedAt: 2025-10-14 12:52:14 -0400 (Tue, 14 Oct 2025) EllapsedTime: 80.0 seconds RetCode: 0 Status: OK PackageFile: ASICS_2.24.0.tgz PackageFileSize: 4.125 MiB