Package: ASICS Version: 2.24.0 Command: /Library/Frameworks/R.framework/Resources/bin/R CMD INSTALL ASICS StartedAt: 2025-09-25 16:20:06 -0400 (Thu, 25 Sep 2025) EndedAt: 2025-09-25 16:20:46 -0400 (Thu, 25 Sep 2025) EllapsedTime: 40.5 seconds RetCode: 0 Status: OK