Package: ASGSCA Version: 1.44.0 Command: /home/biocbuild/R/R/bin/R CMD INSTALL ASGSCA StartedAt: 2025-11-13 21:07:03 -0000 (Thu, 13 Nov 2025) EndedAt: 2025-11-13 21:07:26 -0000 (Thu, 13 Nov 2025) EllapsedTime: 23.1 seconds RetCode: 0 Status: OK