Package: ASGSCA Version: 1.44.0 Command: /home/biocbuild/bbs-3.22-bioc/R/bin/R CMD build --keep-empty-dirs --no-resave-data --md5 ASGSCA StartedAt: 2025-11-11 16:19:15 -0500 (Tue, 11 Nov 2025) EndedAt: 2025-11-11 16:21:54 -0500 (Tue, 11 Nov 2025) EllapsedTime: 159.1 seconds RetCode: 0 Status: OK PackageFile: ASGSCA_1.44.0.tar.gz PackageFileSize: 1.294 MiB