Package: ASGSCA Version: 1.42.0 Command: /home/biocbuild/bbs-3.21-bioc/R/bin/R CMD build --keep-empty-dirs --no-resave-data ASGSCA StartedAt: 2025-10-15 16:12:34 -0400 (Wed, 15 Oct 2025) EndedAt: 2025-10-15 16:15:05 -0400 (Wed, 15 Oct 2025) EllapsedTime: 151.1 seconds RetCode: 0 Status: OK PackageFile: ASGSCA_1.42.0.tar.gz PackageFileSize: 1.293 MiB