Package: ASGSCA Version: 1.42.0 Command: rm -rf ASGSCA.buildbin-libdir && mkdir ASGSCA.buildbin-libdir && /Users/biocbuild/BBS/utils/build-universal.sh ASGSCA_1.42.0.tar.gz /Library/Frameworks/R.framework/Resources/bin/R ASGSCA.buildbin-libdir StartedAt: 2025-04-22 00:33:38 -0400 (Tue, 22 Apr 2025) EndedAt: 2025-04-22 00:33:47 -0400 (Tue, 22 Apr 2025) EllapsedTime: 9.4 seconds RetCode: 0 Status: OK PackageFile: ASGSCA_1.42.0.tgz PackageFileSize: 876.1 KiB