Package: ASGSCA Version: 1.44.0 Maintainer: Hela Romdhani MaintainerEmail: hela.romdhani at mcgill.ca git_url: https://git.bioconductor.org/packages/ASGSCA git_branch: RELEASE_3_22 git_last_commit: a6dbcb3 git_last_commit_date: 2025-10-29 10:22:03 -0400 (Wed, 29 Oct 2025)