Package: ASEB Version: 1.54.0 Command: /home/biocbuild/R/R/bin/R CMD INSTALL ASEB StartedAt: 2025-11-24 21:02:39 -0000 (Mon, 24 Nov 2025) EndedAt: 2025-11-24 21:02:49 -0000 (Mon, 24 Nov 2025) EllapsedTime: 10.5 seconds RetCode: 0 Status: OK