Package: ASEB Version: 1.54.0 Command: /home/biocbuild/R/R/bin/R CMD build --keep-empty-dirs --no-resave-data ASEB StartedAt: 2025-11-21 00:12:04 -0000 (Fri, 21 Nov 2025) EndedAt: 2025-11-21 00:12:21 -0000 (Fri, 21 Nov 2025) EllapsedTime: 17.0 seconds RetCode: 0 Status: OK PackageFile: ASEB_1.54.0.tar.gz PackageFileSize: 594.5 KiB