Package: ASEB Version: 1.54.0 Command: /home/biocbuild/bbs-3.22-bioc/R/bin/R CMD INSTALL ASEB StartedAt: 2025-11-11 15:06:30 -0500 (Tue, 11 Nov 2025) EndedAt: 2025-11-11 15:06:37 -0500 (Tue, 11 Nov 2025) EllapsedTime: 7.6 seconds RetCode: 0 Status: OK