Package: ASEB Version: 1.54.0 Command: /home/biocbuild/bbs-3.22-bioc/R/bin/R CMD check --install=check:ASEB.install-out.txt --library=/home/biocbuild/bbs-3.22-bioc/R/site-library --timings ASEB_1.54.0.tar.gz StartedAt: 2025-11-11 21:14:41 -0500 (Tue, 11 Nov 2025) EndedAt: 2025-11-11 21:15:06 -0500 (Tue, 11 Nov 2025) EllapsedTime: 25.0 seconds RetCode: 0 Status: WARNINGS CheckDir: ASEB.Rcheck Warnings: 1