Package: ASEB Version: 1.54.0 Command: /home/biocbuild/bbs-3.22-bioc/R/bin/R CMD build --keep-empty-dirs --no-resave-data --md5 ASEB StartedAt: 2025-11-11 16:19:05 -0500 (Tue, 11 Nov 2025) EndedAt: 2025-11-11 16:19:19 -0500 (Tue, 11 Nov 2025) EllapsedTime: 14.0 seconds RetCode: 0 Status: OK PackageFile: ASEB_1.54.0.tar.gz PackageFileSize: 603.6 KiB