Package: ASEB Version: 1.52.0 Command: /home/biocbuild/bbs-3.21-bioc/R/bin/R CMD INSTALL ASEB StartedAt: 2025-10-15 15:01:59 -0400 (Wed, 15 Oct 2025) EndedAt: 2025-10-15 15:02:06 -0400 (Wed, 15 Oct 2025) EllapsedTime: 7.5 seconds RetCode: 0 Status: OK