Package: ASEB Version: 1.52.0 Command: /Library/Frameworks/R.framework/Resources/bin/R CMD INSTALL ASEB StartedAt: 2025-10-13 15:07:15 -0400 (Mon, 13 Oct 2025) EndedAt: 2025-10-13 15:07:22 -0400 (Mon, 13 Oct 2025) EllapsedTime: 7.2 seconds RetCode: 0 Status: OK