Package: ASEB Version: 1.52.0 Command: rm -rf ASEB.buildbin-libdir && mkdir ASEB.buildbin-libdir && /Users/biocbuild/BBS/utils/build-universal.sh ASEB_1.52.0.tar.gz /Library/Frameworks/R.framework/Resources/bin/R ASEB.buildbin-libdir StartedAt: 2025-10-15 17:26:10 -0400 (Wed, 15 Oct 2025) EndedAt: 2025-10-15 17:26:20 -0400 (Wed, 15 Oct 2025) EllapsedTime: 10.1 seconds RetCode: 0 Status: OK PackageFile: ASEB_1.52.0.tgz PackageFileSize: 778.1 KiB