Package: ASAFE Version: 1.36.0 Command: /home/biocbuild/bbs-3.22-bioc/R/bin/R CMD INSTALL ASAFE StartedAt: 2025-11-11 15:06:19 -0500 (Tue, 11 Nov 2025) EndedAt: 2025-11-11 15:06:29 -0500 (Tue, 11 Nov 2025) EllapsedTime: 10.8 seconds RetCode: 0 Status: OK