Package: ASAFE Version: 1.36.0 Command: /home/biocbuild/bbs-3.22-bioc/R/bin/R CMD check --install=check:ASAFE.install-out.txt --library=/home/biocbuild/bbs-3.22-bioc/R/site-library --timings ASAFE_1.36.0.tar.gz StartedAt: 2025-11-11 21:14:35 -0500 (Tue, 11 Nov 2025) EndedAt: 2025-11-11 21:14:53 -0500 (Tue, 11 Nov 2025) EllapsedTime: 18.0 seconds RetCode: 0 Status: OK CheckDir: ASAFE.Rcheck Warnings: 0