Package: ASAFE Version: 1.36.0 Command: /home/biocbuild/bbs-3.22-bioc/R/bin/R CMD build --keep-empty-dirs --no-resave-data --md5 ASAFE StartedAt: 2025-11-11 16:18:58 -0500 (Tue, 11 Nov 2025) EndedAt: 2025-11-11 16:19:05 -0500 (Tue, 11 Nov 2025) EllapsedTime: 7.0 seconds RetCode: 0 Status: OK PackageFile: ASAFE_1.36.0.tar.gz PackageFileSize: 427.6 KiB