Package: ASAFE Version: 1.34.0 Command: /home/biocbuild/R/R/bin/R CMD INSTALL ASAFE StartedAt: 2025-09-25 20:13:18 -0000 (Thu, 25 Sep 2025) EndedAt: 2025-09-25 20:13:29 -0000 (Thu, 25 Sep 2025) EllapsedTime: 11.7 seconds RetCode: 0 Status: OK