Package: ASAFE Version: 1.34.0 Command: /home/biocbuild/R/R/bin/R CMD build --keep-empty-dirs --no-resave-data ASAFE StartedAt: 2025-09-25 22:37:48 -0000 (Thu, 25 Sep 2025) EndedAt: 2025-09-25 22:37:55 -0000 (Thu, 25 Sep 2025) EllapsedTime: 7.0 seconds RetCode: 0 Status: OK PackageFile: ASAFE_1.34.0.tar.gz PackageFileSize: 394.1 KiB