Package: ARRmNormalization Version: 1.50.0 Command: /home/biocbuild/R/R/bin/R CMD build --keep-empty-dirs --no-resave-data ARRmNormalization StartedAt: 2025-11-13 23:28:13 -0000 (Thu, 13 Nov 2025) EndedAt: 2025-11-13 23:28:42 -0000 (Thu, 13 Nov 2025) EllapsedTime: 29.0 seconds RetCode: 0 Status: OK PackageFile: ARRmNormalization_1.50.0.tar.gz PackageFileSize: 1.067 MiB