Package: ARRmNormalization Version: 1.48.0 Command: /Library/Frameworks/R.framework/Resources/bin/R CMD INSTALL ARRmNormalization StartedAt: 2025-10-13 15:07:59 -0400 (Mon, 13 Oct 2025) EndedAt: 2025-10-13 15:08:29 -0400 (Mon, 13 Oct 2025) EllapsedTime: 30.0 seconds RetCode: 0 Status: OK