Package: APL Version: 1.14.0 Command: /home/biocbuild/R/R/bin/R CMD INSTALL APL StartedAt: 2025-11-20 22:29:56 -0000 (Thu, 20 Nov 2025) EndedAt: 2025-11-20 22:30:53 -0000 (Thu, 20 Nov 2025) EllapsedTime: 56.7 seconds RetCode: 0 Status: OK