Package: APL Version: 1.14.0 Command: /home/biocbuild/R/R/bin/R CMD build --keep-empty-dirs --no-resave-data APL StartedAt: 2025-11-21 00:09:13 -0000 (Fri, 21 Nov 2025) EndedAt: 2025-11-21 00:13:47 -0000 (Fri, 21 Nov 2025) EllapsedTime: 274.1 seconds RetCode: 0 Status: OK PackageFile: APL_1.14.0.tar.gz PackageFileSize: 1.218 MiB