Package: APL Version: 1.14.0 Command: /home/biocbuild/bbs-3.22-bioc/R/bin/R CMD check --install=check:APL.install-out.txt --library=/home/biocbuild/bbs-3.22-bioc/R/site-library --timings APL_1.14.0.tar.gz StartedAt: 2025-11-11 21:13:28 -0500 (Tue, 11 Nov 2025) EndedAt: 2025-11-11 21:21:17 -0500 (Tue, 11 Nov 2025) EllapsedTime: 468.5 seconds RetCode: 0 Status: OK CheckDir: APL.Rcheck Warnings: 0