Package: APL Version: 1.14.0 Command: /home/biocbuild/bbs-3.22-bioc/R/bin/R CMD build --keep-empty-dirs --no-resave-data --md5 APL StartedAt: 2025-11-11 16:17:48 -0500 (Tue, 11 Nov 2025) EndedAt: 2025-11-11 16:21:19 -0500 (Tue, 11 Nov 2025) EllapsedTime: 211.1 seconds RetCode: 0 Status: OK PackageFile: APL_1.14.0.tar.gz PackageFileSize: 2.328 MiB