Package: APL Version: 1.12.0 Command: /home/biocbuild/bbs-3.21-bioc/R/bin/R CMD INSTALL APL StartedAt: 2025-10-15 15:44:28 -0400 (Wed, 15 Oct 2025) EndedAt: 2025-10-15 15:45:09 -0400 (Wed, 15 Oct 2025) EllapsedTime: 40.6 seconds RetCode: 0 Status: OK