Package: APL Version: 1.12.0 Command: /home/biocbuild/bbs-3.21-bioc/R/bin/R CMD build --keep-empty-dirs --no-resave-data APL StartedAt: 2025-10-15 16:11:30 -0400 (Wed, 15 Oct 2025) EndedAt: 2025-10-15 16:14:51 -0400 (Wed, 15 Oct 2025) EllapsedTime: 201.2 seconds RetCode: 0 Status: OK PackageFile: APL_1.12.0.tar.gz PackageFileSize: 2.328 MiB