Package: APL Version: 1.12.0 Command: /Library/Frameworks/R.framework/Resources/bin/R CMD build --keep-empty-dirs --no-resave-data APL StartedAt: 2025-04-21 15:38:06 -0400 (Mon, 21 Apr 2025) EndedAt: 2025-04-21 15:39:44 -0400 (Mon, 21 Apr 2025) EllapsedTime: 98.1 seconds RetCode: 0 Status: OK PackageFile: APL_1.12.0.tar.gz PackageFileSize: 2.475 MiB