Package: APL Version: 1.12.0 Command: /Library/Frameworks/R.framework/Resources/bin/R CMD INSTALL APL StartedAt: 2025-10-13 17:37:43 -0400 (Mon, 13 Oct 2025) EndedAt: 2025-10-13 17:38:31 -0400 (Mon, 13 Oct 2025) EllapsedTime: 48.7 seconds RetCode: 0 Status: OK