Package: APL Version: 1.12.0 Command: /Library/Frameworks/R.framework/Resources/bin/R CMD build --keep-empty-dirs --no-resave-data APL StartedAt: 2025-10-13 19:06:28 -0400 (Mon, 13 Oct 2025) EndedAt: 2025-10-13 19:10:58 -0400 (Mon, 13 Oct 2025) EllapsedTime: 270.4 seconds RetCode: 0 Status: OK PackageFile: APL_1.12.0.tar.gz PackageFileSize: 2.436 MiB