Package: APAlyzer Version: 1.24.0 Command: /home/biocbuild/bbs-3.22-bioc/R/bin/R CMD INSTALL APAlyzer StartedAt: 2025-11-11 15:45:18 -0500 (Tue, 11 Nov 2025) EndedAt: 2025-11-11 15:46:00 -0500 (Tue, 11 Nov 2025) EllapsedTime: 41.9 seconds RetCode: 0 Status: OK