Package: APAlyzer Version: 1.24.0 Command: /home/biocbuild/bbs-3.22-bioc/R/bin/R CMD check --install=check:APAlyzer.install-out.txt --library=/home/biocbuild/bbs-3.22-bioc/R/site-library --timings APAlyzer_1.24.0.tar.gz StartedAt: 2025-11-20 21:55:33 -0500 (Thu, 20 Nov 2025) EndedAt: 2025-11-20 22:03:23 -0500 (Thu, 20 Nov 2025) EllapsedTime: 470.6 seconds RetCode: 1 Status: ERROR CheckDir: APAlyzer.Rcheck Warnings: NA