Package: APAlyzer Version: 1.22.0 Command: /home/biocbuild/R/R/bin/R CMD build --keep-empty-dirs --no-resave-data APAlyzer StartedAt: 2025-10-13 22:35:14 -0000 (Mon, 13 Oct 2025) EndedAt: 2025-10-13 22:37:49 -0000 (Mon, 13 Oct 2025) EllapsedTime: 155.0 seconds RetCode: 0 Status: OK PackageFile: APAlyzer_1.22.0.tar.gz PackageFileSize: 3.926 MiB