Package: APAlyzer Version: 1.24.0 Command: /Library/Frameworks/R.framework/Resources/bin/R CMD INSTALL APAlyzer StartedAt: 2025-11-20 18:07:45 -0500 (Thu, 20 Nov 2025) EndedAt: 2025-11-20 18:08:34 -0500 (Thu, 20 Nov 2025) EllapsedTime: 49.2 seconds RetCode: 0 Status: OK