Package: APAlyzer Version: 1.24.0 Command: /Library/Frameworks/R.framework/Resources/bin/R CMD build --keep-empty-dirs --no-resave-data APAlyzer StartedAt: 2025-11-20 19:56:15 -0500 (Thu, 20 Nov 2025) EndedAt: 2025-11-20 19:58:18 -0500 (Thu, 20 Nov 2025) EllapsedTime: 122.1 seconds RetCode: 0 Status: OK PackageFile: APAlyzer_1.24.0.tar.gz PackageFileSize: 3.962 MiB