Package: APAlyzer Version: 1.24.0 Command: rm -rf APAlyzer.buildbin-libdir && mkdir APAlyzer.buildbin-libdir && /Users/biocbuild/BBS/utils/build-universal.sh APAlyzer_1.24.0.tar.gz /Library/Frameworks/R.framework/Resources/bin/R APAlyzer.buildbin-libdir StartedAt: 2025-11-23 07:09:59 -0500 (Sun, 23 Nov 2025) EndedAt: 2025-11-23 07:11:19 -0500 (Sun, 23 Nov 2025) EllapsedTime: 79.9 seconds RetCode: 0 Status: OK PackageFile: APAlyzer_1.24.0.tgz PackageFileSize: 4.045 MiB