Package: ANF Version: 1.32.0 Command: /home/biocbuild/bbs-3.22-bioc/R/bin/R CMD INSTALL ANF StartedAt: 2025-11-14 15:13:27 -0500 (Fri, 14 Nov 2025) EndedAt: 2025-11-14 15:13:33 -0500 (Fri, 14 Nov 2025) EllapsedTime: 6.7 seconds RetCode: 0 Status: OK