Package: ANF Version: 1.32.0 Command: /home/biocbuild/bbs-3.22-bioc/R/bin/R CMD build --keep-empty-dirs --no-resave-data --md5 ANF StartedAt: 2025-11-14 16:14:15 -0500 (Fri, 14 Nov 2025) EndedAt: 2025-11-14 16:14:50 -0500 (Fri, 14 Nov 2025) EllapsedTime: 35.0 seconds RetCode: 0 Status: OK PackageFile: ANF_1.32.0.tar.gz PackageFileSize: 684.5 KiB