Package: ANCOMBC Version: 2.12.0 Command: /home/biocbuild/bbs-3.22-bioc/R/bin/R CMD INSTALL ANCOMBC StartedAt: 2025-11-05 15:15:38 -0500 (Wed, 05 Nov 2025) EndedAt: 2025-11-05 15:16:26 -0500 (Wed, 05 Nov 2025) EllapsedTime: 47.5 seconds RetCode: 0 Status: OK