Package: AMOUNTAIN Version: 1.36.0 Command: /home/biocbuild/bbs-3.22-bioc/R/bin/R CMD INSTALL AMOUNTAIN StartedAt: 2025-11-11 15:15:50 -0500 (Tue, 11 Nov 2025) EndedAt: 2025-11-11 15:15:59 -0500 (Tue, 11 Nov 2025) EllapsedTime: 9.7 seconds RetCode: 0 Status: OK