Package: AMOUNTAIN Version: 1.36.0 Command: /home/biocbuild/bbs-3.22-bioc/R/bin/R CMD build --keep-empty-dirs --no-resave-data --md5 AMOUNTAIN StartedAt: 2025-11-11 16:15:44 -0500 (Tue, 11 Nov 2025) EndedAt: 2025-11-11 16:15:59 -0500 (Tue, 11 Nov 2025) EllapsedTime: 15.0 seconds RetCode: 0 Status: OK PackageFile: AMOUNTAIN_1.36.0.tar.gz PackageFileSize: 1.623 MiB