Package: AMOUNTAIN Version: 1.36.0 Command: /Library/Frameworks/R.framework/Resources/bin/R CMD build --keep-empty-dirs --no-resave-data AMOUNTAIN StartedAt: 2025-11-10 15:37:06 -0500 (Mon, 10 Nov 2025) EndedAt: 2025-11-10 15:37:13 -0500 (Mon, 10 Nov 2025) EllapsedTime: 7.1 seconds RetCode: 0 Status: OK PackageFile: AMOUNTAIN_1.36.0.tar.gz PackageFileSize: 1.749 MiB