Package: AMOUNTAIN Version: 1.36.0 Command: rm -rf AMOUNTAIN.buildbin-libdir && mkdir AMOUNTAIN.buildbin-libdir && /Users/biocbuild/BBS/utils/build-universal.sh AMOUNTAIN_1.36.0.tar.gz /Library/Frameworks/R.framework/Resources/bin/R AMOUNTAIN.buildbin-libdir StartedAt: 2025-11-10 23:11:03 -0500 (Mon, 10 Nov 2025) EndedAt: 2025-11-10 23:11:05 -0500 (Mon, 10 Nov 2025) EllapsedTime: 2.1 seconds RetCode: 0 Status: OK PackageFile: AMOUNTAIN_1.36.0.tgz PackageFileSize: 1.788 MiB