Package: AMARETTO Version: 1.24.0 Command: /home/biocbuild/R/R/bin/R CMD INSTALL AMARETTO StartedAt: 2025-10-13 21:12:46 -0000 (Mon, 13 Oct 2025) EndedAt: 2025-10-13 21:13:38 -0000 (Mon, 13 Oct 2025) EllapsedTime: 52.1 seconds RetCode: 0 Status: OK